BEGIN:VCALENDAR
PRODID:-//SINGPromos.com//NONSGML v1.0//EN
VERSION:2.0
CALSCALE:GREGORIAN
METHOD:PUBLISH
X-WR-CALNAME:SINGPromos.com
X-ORIGINAL-URL:https://singpromos.com
X-WR-CALDESC:Events for SINGPromos.com
BEGIN:VEVENT
DTSTART:20181005T000000
DTEND:20181005T235900
DTSTAMP:20260420T232625
CREATED:20181005T134249
LAST-MODIFIED:20181005T134839
UID:221456@https://singpromos.com
SUMMARY:Jetstar Airways: $0 fares to Bali, Hong Kong, Darwin and more for one-day only on 5 Oct 2018
DESCRIPTION:$0* fares to Bali, Hong Kong, Darwin and more. Hurry, book now!. For more information, visit [ https://singpromos.com/airlines-flights/jetstar-airways-0-fares-to-bali-hong-kong-darwin-and-more-for-one-day-only-on-5-oct-2018-221456/ ]. 
LOCATION:
URL:https://singpromos.com/airlines-flights/jetstar-airways-0-fares-to-bali-hong-kong-darwin-and-more-for-one-day-only-on-5-oct-2018-221456/
END:VEVENT
END:VCALENDAR