BEGIN:VCALENDAR
PRODID:-//SINGPromos.com//NONSGML v1.0//EN
VERSION:2.0
CALSCALE:GREGORIAN
METHOD:PUBLISH
X-WR-CALNAME:SINGPromos.com
X-ORIGINAL-URL:https://singpromos.com
X-WR-CALDESC:Events for SINGPromos.com
BEGIN:VEVENT
DTSTART:20181012T000000
DTEND:20181012T235900
DTSTAMP:20260420T055555
CREATED:20181011T115241
LAST-MODIFIED:20181008T182229
UID:221527@https://singpromos.com
SUMMARY:Krispy Kreme: 12 doughnuts for $12 one-day promo on 12 Oct 2018
DESCRIPTION:Krispy Kreme will be running the popular 12 for $12 promotion at selected outlets on Friday, 12 October!. For more information, visit [ https://singpromos.com/dining-restaurants-food/krispy-kreme-12-doughnuts-for-12-one-day-promo-on-12-oct-2018-221527/ ]. 
LOCATION:
URL:https://singpromos.com/dining-restaurants-food/krispy-kreme-12-doughnuts-for-12-one-day-promo-on-12-oct-2018-221527/
END:VEVENT
END:VCALENDAR