BEGIN:VCALENDAR
PRODID:-//SINGPromos.com//NONSGML v1.0//EN
VERSION:2.0
CALSCALE:GREGORIAN
METHOD:PUBLISH
X-WR-CALNAME:SINGPromos.com
X-ORIGINAL-URL:https://singpromos.com
X-WR-CALDESC:Events for SINGPromos.com
BEGIN:VEVENT
DTSTART:20181016T000000
DTEND:20181115T235900
DTSTAMP:20260422T060855
CREATED:20181016T205507
LAST-MODIFIED:20181016T205507
UID:221675@https://singpromos.com
SUMMARY:KFC Delivery offers free delivery when you checkout with Masterpass till 15 Nov 2018
DESCRIPTION:Enjoy free delivery when you checkout with Masterpass!. For more information, visit [ https://singpromos.com/dining-restaurants-food/kfc-delivery-offers-free-delivery-when-you-checkout-with-masterpass-till-15-nov-2018-221675/ ]. 
LOCATION:
URL:https://singpromos.com/dining-restaurants-food/kfc-delivery-offers-free-delivery-when-you-checkout-with-masterpass-till-15-nov-2018-221675/
END:VEVENT
END:VCALENDAR