BEGIN:VCALENDAR
PRODID:-//SINGPromos.com//NONSGML v1.0//EN
VERSION:2.0
CALSCALE:GREGORIAN
METHOD:PUBLISH
X-WR-CALNAME:SINGPromos.com
X-ORIGINAL-URL:https://singpromos.com
X-WR-CALDESC:Events for SINGPromos.com
BEGIN:VEVENT
DTSTART:20181102T000000
DTEND:20181104T235900
DTSTAMP:20260420T001451
CREATED:20181031T114200
LAST-MODIFIED:20181031T143650
UID:221745@https://singpromos.com
SUMMARY:Outdoor Venture: Up to 70% off The North Face, Patagonia & more warehouse sale from 2 - 4 Nov 2018
DESCRIPTION:Looking for new Sports & Outdoor gears? MARK THIS DATE!. For more information, visit [ https://singpromos.com/warehouse-sales/outdoor-venture-up-to-70-off-the-north-face-patagonia-more-warehouse-sale-from-2-4-nov-2018-221745/ ]. 
LOCATION:17 Kaki Bukit Crescent, 416248
URL:https://singpromos.com/warehouse-sales/outdoor-venture-up-to-70-off-the-north-face-patagonia-more-warehouse-sale-from-2-4-nov-2018-221745/
END:VEVENT
END:VCALENDAR