BEGIN:VCALENDAR
PRODID:-//SINGPromos.com//NONSGML v1.0//EN
VERSION:2.0
CALSCALE:GREGORIAN
METHOD:PUBLISH
X-WR-CALNAME:SINGPromos.com
X-ORIGINAL-URL:https://singpromos.com
X-WR-CALDESC:Events for SINGPromos.com
BEGIN:VEVENT
DTSTART:20181029T000000
DTEND:20181130T235900
DTSTAMP:20260420T001414
CREATED:20181030T141100
LAST-MODIFIED:20181030T141539
UID:221950@https://singpromos.com
SUMMARY:FairPrice Share-A-Textbook: Donate your pre-loved textbooks at any FairPrice store till 30 Nov 2018
DESCRIPTION:FairPrice Share-A-Textbook project targets to collect half a million textbooks for needy students; rallies community to donate generously. For more information, visit [ https://singpromos.com/books/fairprice-share-a-textbook-donate-your-pre-loved-textbooks-at-any-fairprice-store-till-30-nov-2018-221950/ ]. 
LOCATION:
URL:https://singpromos.com/books/fairprice-share-a-textbook-donate-your-pre-loved-textbooks-at-any-fairprice-store-till-30-nov-2018-221950/
END:VEVENT
END:VCALENDAR