BEGIN:VCALENDAR
PRODID:-//SINGPromos.com//NONSGML v1.0//EN
VERSION:2.0
CALSCALE:GREGORIAN
METHOD:PUBLISH
X-WR-CALNAME:SINGPromos.com
X-ORIGINAL-URL:https://singpromos.com
X-WR-CALDESC:Events for SINGPromos.com
BEGIN:VEVENT
DTSTART:20181030T000000
DTEND:20181101T235900
DTSTAMP:20260420T001446
CREATED:20181030T115242
LAST-MODIFIED:20181030T115242
UID:221963@https://singpromos.com
SUMMARY:Steam 2018 Halloween Sale is now on till 1 Nov 2018
DESCRIPTION:Save big on spooky titles from now 'til November 1st!. For more information, visit [ https://singpromos.com/video-games/steam-2018-halloween-sale-is-now-on-till-1-nov-2018-221963/ ]. 
LOCATION:
URL:https://singpromos.com/video-games/steam-2018-halloween-sale-is-now-on-till-1-nov-2018-221963/
END:VEVENT
END:VCALENDAR