BEGIN:VCALENDAR
PRODID:-//SINGPromos.com//NONSGML v1.0//EN
VERSION:2.0
CALSCALE:GREGORIAN
METHOD:PUBLISH
X-WR-CALNAME:SINGPromos.com
X-ORIGINAL-URL:https://singpromos.com
X-WR-CALDESC:Events for SINGPromos.com
BEGIN:VEVENT
DTSTART:20181031T000000
DTEND:20181031T235900
DTSTAMP:20260420T001415
CREATED:20181031T003649
LAST-MODIFIED:20181031T003649
UID:221984@https://singpromos.com
SUMMARY:Qoo10: Grab free $10 cart coupons (min spend $60)! Valid on 31 Oct 2018
DESCRIPTION:Qoo10 is running a Midweek Coupon promotion featuring free cart coupons worth $10! Coupons can only be received during the event period. For more information, visit [ https://singpromos.com/department-stores/qoo10-grab-free-10-cart-coupons-min-spend-60-valid-on-31-oct-2018-221984/ ]. 
LOCATION:
URL:https://singpromos.com/department-stores/qoo10-grab-free-10-cart-coupons-min-spend-60-valid-on-31-oct-2018-221984/
END:VEVENT
END:VCALENDAR