BEGIN:VCALENDAR
PRODID:-//SINGPromos.com//NONSGML v1.0//EN
VERSION:2.0
CALSCALE:GREGORIAN
METHOD:PUBLISH
X-WR-CALNAME:SINGPromos.com
X-ORIGINAL-URL:https://singpromos.com
X-WR-CALDESC:Events for SINGPromos.com
BEGIN:VEVENT
DTSTART:20181101T000000
DTEND:20181231T235900
DTSTAMP:20260422T060854
CREATED:20181101T161151
LAST-MODIFIED:20181101T132847
UID:222040@https://singpromos.com
SUMMARY:The Coffee Bean & Tea Leaf: Free upsize when you tap & go™ with Mastercard till 31 Dec 2018
DESCRIPTION:Free Upsize on all beverages when you tap & go™ with Mastercard. For more information, visit [ https://singpromos.com/dining-restaurants-food/the-coffee-bean-tea-leaf-free-upsize-when-you-tap-go-with-mastercard-till-31-dec-2018-222040/ ]. 
LOCATION:
URL:https://singpromos.com/dining-restaurants-food/the-coffee-bean-tea-leaf-free-upsize-when-you-tap-go-with-mastercard-till-31-dec-2018-222040/
END:VEVENT
END:VCALENDAR