BEGIN:VCALENDAR
PRODID:-//SINGPromos.com//NONSGML v1.0//EN
VERSION:2.0
CALSCALE:GREGORIAN
METHOD:PUBLISH
X-WR-CALNAME:SINGPromos.com
X-ORIGINAL-URL:https://singpromos.com
X-WR-CALDESC:Events for SINGPromos.com
BEGIN:VEVENT
DTSTART:20181102T000000
DTEND:20181106T235900
DTSTAMP:20260420T055546
CREATED:20181102T092155
LAST-MODIFIED:20181102T101626
UID:222057@https://singpromos.com
SUMMARY:Giant up to 70% off crazy warehouse clearance sale now on till 6 Nov 2018
DESCRIPTION:Selected household and home appliance MEGA sales is now happening at Giant Tampines!. For more information, visit [ https://singpromos.com/warehouse-sales/giant-up-to-70-off-crazy-warehouse-clearance-sale-now-on-till-6-nov-2018-222057/ ]. 
LOCATION:528765
URL:https://singpromos.com/warehouse-sales/giant-up-to-70-off-crazy-warehouse-clearance-sale-now-on-till-6-nov-2018-222057/
END:VEVENT
END:VCALENDAR