BEGIN:VCALENDAR
PRODID:-//SINGPromos.com//NONSGML v1.0//EN
VERSION:2.0
CALSCALE:GREGORIAN
METHOD:PUBLISH
X-WR-CALNAME:SINGPromos.com
X-ORIGINAL-URL:https://singpromos.com
X-WR-CALDESC:Events for SINGPromos.com
BEGIN:VEVENT
DTSTART:20111226T000000
DTEND:20111229T235900
DTSTAMP:20260420T074445
CREATED:20111226T142351
LAST-MODIFIED:20111230T135230
UID:22212@https://singpromos.com
SUMMARY:GP 46% Off AA Alkaline Batteries With Optional Delivery 26 Dec 2011
DESCRIPTION:Grab this opportunity to stock up on batteries with this deal: $5.90 for One Box of 24 AA GP Alkaline Batteries (Worth $10.90) with option of eight Boxes with Free Delivery available - that's 46% off the usual price! Learn how to get this deal before it ends soon. For more information, visit [ https://singpromos.com/household/gp-46-off-aa-alkaline-batteries-with-optional-delivery-26-dec-2011-22212/ ]. 
LOCATION:
URL:https://singpromos.com/household/gp-46-off-aa-alkaline-batteries-with-optional-delivery-26-dec-2011-22212/
END:VEVENT
END:VCALENDAR