BEGIN:VCALENDAR
PRODID:-//SINGPromos.com//NONSGML v1.0//EN
VERSION:2.0
CALSCALE:GREGORIAN
METHOD:PUBLISH
X-WR-CALNAME:SINGPromos.com
X-ORIGINAL-URL:https://singpromos.com
X-WR-CALDESC:Events for SINGPromos.com
BEGIN:VEVENT
DTSTART:20181109T000000
DTEND:20181109T235900
DTSTAMP:20260420T232627
CREATED:20181109T094211
LAST-MODIFIED:20181109T181953
UID:222292@https://singpromos.com
SUMMARY:Jetstar year-end holiday deals to Yangon, Darwin and more! Ends 9 Nov 2018
DESCRIPTION:15 hours only! Year-end holiday deals to Yangon, Darwin and more.. For more information, visit [ https://singpromos.com/airlines-flights/jetstar-year-end-holiday-deals-to-yangon-darwin-and-more-ends-9-nov-2018-222292/ ]. 
LOCATION:
URL:https://singpromos.com/airlines-flights/jetstar-year-end-holiday-deals-to-yangon-darwin-and-more-ends-9-nov-2018-222292/
END:VEVENT
END:VCALENDAR