BEGIN:VCALENDAR
PRODID:-//SINGPromos.com//NONSGML v1.0//EN
VERSION:2.0
CALSCALE:GREGORIAN
METHOD:PUBLISH
X-WR-CALNAME:SINGPromos.com
X-ORIGINAL-URL:https://singpromos.com
X-WR-CALDESC:Events for SINGPromos.com
BEGIN:VEVENT
DTSTART:20181116T000000
DTEND:20181118T235900
DTSTAMP:20260420T013923
CREATED:20181112T194340
LAST-MODIFIED:20181116T110112
UID:222412@https://singpromos.com
SUMMARY:World of Sports Mega Sports Expo Sale is happening from 16 - 18 Nov 2018
DESCRIPTION:Your Mega Sports Expo Sale is here!. For more information, visit [ https://singpromos.com/warehouse-sales/world-of-sports-mega-sports-expo-sale-is-happening-from-16-18-nov-2018-222412/ ]. 
LOCATION:486150
URL:https://singpromos.com/warehouse-sales/world-of-sports-mega-sports-expo-sale-is-happening-from-16-18-nov-2018-222412/
END:VEVENT
END:VCALENDAR