BEGIN:VCALENDAR
PRODID:-//SINGPromos.com//NONSGML v1.0//EN
VERSION:2.0
CALSCALE:GREGORIAN
METHOD:PUBLISH
X-WR-CALNAME:SINGPromos.com
X-ORIGINAL-URL:https://singpromos.com
X-WR-CALDESC:Events for SINGPromos.com
BEGIN:VEVENT
DTSTART:20181113T000000
DTEND:20181231T235900
DTSTAMP:20260422T201227
CREATED:20181113T101045
LAST-MODIFIED:20181113T101219
UID:222432@https://singpromos.com
SUMMARY:Cold Stone Creamery is offering 1-for-1 Signature Creation Pints (Mine size) at all outlets till 31 Dec 2018
DESCRIPTION:Great savings this Christmas with 1-FOR-1 ICE CREAM PINTS!. For more information, visit [ https://singpromos.com/dining-restaurants-food/cold-stone-creamery-is-offering-1-for-1-signature-creation-pints-mine-size-at-all-outlets-till-31-dec-2018-222432/ ]. 
LOCATION:
URL:https://singpromos.com/dining-restaurants-food/cold-stone-creamery-is-offering-1-for-1-signature-creation-pints-mine-size-at-all-outlets-till-31-dec-2018-222432/
END:VEVENT
END:VCALENDAR