BEGIN:VCALENDAR
PRODID:-//SINGPromos.com//NONSGML v1.0//EN
VERSION:2.0
CALSCALE:GREGORIAN
METHOD:PUBLISH
X-WR-CALNAME:SINGPromos.com
X-ORIGINAL-URL:https://singpromos.com
X-WR-CALDESC:Events for SINGPromos.com
BEGIN:VEVENT
DTSTART:20181123T000000
DTEND:20181123T235900
DTSTAMP:20260422T080715
CREATED:20181122T132622
LAST-MODIFIED:20181122T132736
UID:222697@https://singpromos.com
SUMMARY:Robinsons one-day Black Friday promotion offers discounts of up to 80% off on 23 November 2018
DESCRIPTION:Brace for collateral damage to your wallet. Elevate your energy levels to cover more ground.. For more information, visit [ https://singpromos.com/department-stores/robinsons-one-day-black-friday-promotion-offers-discounts-of-up-to-80-off-on-23-november-2018-222697/ ]. 
LOCATION:
URL:https://singpromos.com/department-stores/robinsons-one-day-black-friday-promotion-offers-discounts-of-up-to-80-off-on-23-november-2018-222697/
END:VEVENT
END:VCALENDAR