BEGIN:VCALENDAR
PRODID:-//SINGPromos.com//NONSGML v1.0//EN
VERSION:2.0
CALSCALE:GREGORIAN
METHOD:PUBLISH
X-WR-CALNAME:SINGPromos.com
X-ORIGINAL-URL:https://singpromos.com
X-WR-CALDESC:Events for SINGPromos.com
BEGIN:VEVENT
DTSTART:20181206T000000
DTEND:20181209T235900
DTSTAMP:20260422T211713
CREATED:20181205T212745
LAST-MODIFIED:20181205T213045
UID:223032@https://singpromos.com
SUMMARY:Better Vision Year End Warehouse Sales - Up to 90% off from 6 - 9 Dec 2018
DESCRIPTION:Fancy getting yourself and your loved ones an Eyewear for Christmas this season?. For more information, visit [ https://singpromos.com/warehouse-sales/better-vision-year-end-warehouse-sales-up-to-90-off-from-6-9-dec-2018-223032/ ]. 
LOCATION:169074
URL:https://singpromos.com/warehouse-sales/better-vision-year-end-warehouse-sales-up-to-90-off-from-6-9-dec-2018-223032/
END:VEVENT
END:VCALENDAR