BEGIN:VCALENDAR
PRODID:-//SINGPromos.com//NONSGML v1.0//EN
VERSION:2.0
CALSCALE:GREGORIAN
METHOD:PUBLISH
X-WR-CALNAME:SINGPromos.com
X-ORIGINAL-URL:https://singpromos.com
X-WR-CALDESC:Events for SINGPromos.com
BEGIN:VEVENT
DTSTART:20181206T000000
DTEND:20181231T235900
DTSTAMP:20260422T082304
CREATED:20181206T153407
LAST-MODIFIED:20181206T153407
UID:223082@https://singpromos.com
SUMMARY:RHB: Earn up to 1.85% p.a. for 6/12-mth SGD fixed deposits till 31 Dec 2018
DESCRIPTION:Maximise the potential of your Savings with minimal risk. Let RHB grow your cash through attractive interest rates.. For more information, visit [ https://singpromos.com/banks-credit-cards/rhb-earn-up-to-1-85-p-a-for-6-12-mth-sgd-fixed-deposits-till-31-dec-2018-223082/ ]. 
LOCATION:
URL:https://singpromos.com/banks-credit-cards/rhb-earn-up-to-1-85-p-a-for-6-12-mth-sgd-fixed-deposits-till-31-dec-2018-223082/
END:VEVENT
END:VCALENDAR