BEGIN:VCALENDAR
PRODID:-//SINGPromos.com//NONSGML v1.0//EN
VERSION:2.0
CALSCALE:GREGORIAN
METHOD:PUBLISH
X-WR-CALNAME:SINGPromos.com
X-ORIGINAL-URL:https://singpromos.com
X-WR-CALDESC:Events for SINGPromos.com
BEGIN:VEVENT
DTSTART:20181208T000000
DTEND:20181230T235900
DTSTAMP:20260422T080531
CREATED:20181208T142436
LAST-MODIFIED:20181208T142436
UID:223148@https://singpromos.com
SUMMARY:Hennsley: Free mattress for every purchase of the new Ergopeutic® Premium Series Mattresses* from 8th to 30th Dec 2018
DESCRIPTION:Plus enjoy storewide 20% Discount + 7% GST Absorb + 5% Additional Rebate* + Additional Promo Code 3% Discount.. For more information, visit [ https://singpromos.com/furniture/hennsley-free-mattress-for-every-purchase-of-the-new-ergopeutic-premium-series-mattresses-from-8th-to-30th-dec-2018-223148/ ]. 
LOCATION:428778
URL:https://singpromos.com/furniture/hennsley-free-mattress-for-every-purchase-of-the-new-ergopeutic-premium-series-mattresses-from-8th-to-30th-dec-2018-223148/
END:VEVENT
END:VCALENDAR