BEGIN:VCALENDAR
PRODID:-//SINGPromos.com//NONSGML v1.0//EN
VERSION:2.0
CALSCALE:GREGORIAN
METHOD:PUBLISH
X-WR-CALNAME:SINGPromos.com
X-ORIGINAL-URL:https://singpromos.com
X-WR-CALDESC:Events for SINGPromos.com
BEGIN:VEVENT
DTSTART:20181212T000000
DTEND:20181216T235900
DTSTAMP:20260420T232526
CREATED:20181212T125338
LAST-MODIFIED:20181212T130423
UID:223236@https://singpromos.com
SUMMARY:Jetstar: Pay-to-go, return for FREE promo to 20 destinations when you book by 16 Dec 2018
DESCRIPTION:Jetstar's Return for FREE* sale is back! Book a flight to your dream destination and your return flight is FREE*!. For more information, visit [ https://singpromos.com/airlines-flights/jetstar-pay-to-go-return-for-free-promo-to-20-destinations-when-you-book-by-16-dec-2018-223236/ ]. 
LOCATION:
URL:https://singpromos.com/airlines-flights/jetstar-pay-to-go-return-for-free-promo-to-20-destinations-when-you-book-by-16-dec-2018-223236/
END:VEVENT
END:VCALENDAR