BEGIN:VCALENDAR
PRODID:-//SINGPromos.com//NONSGML v1.0//EN
VERSION:2.0
CALSCALE:GREGORIAN
METHOD:PUBLISH
X-WR-CALNAME:SINGPromos.com
X-ORIGINAL-URL:https://singpromos.com
X-WR-CALDESC:Events for SINGPromos.com
BEGIN:VEVENT
DTSTART:20111228T000000
DTEND:20120115T235900
DTSTAMP:20260422T082150
CREATED:20111229T013827
LAST-MODIFIED:20120110T032628
UID:22371@https://singpromos.com
SUMMARY:Charles & Keith End of Season Up To 30% off 28 Dec 2011
DESCRIPTION:Charles & Keith footwear and accessories has now started their End of Season sale with up to 30% off from 28 Dec 2011. The sale is available at their retail outlets as well as their online store. . For more information, visit [ https://singpromos.com/fashion-accessories/charles-keith-end-of-season-up-to-30-off-28-dec-2011-22371/ ]. 
LOCATION:
URL:https://singpromos.com/fashion-accessories/charles-keith-end-of-season-up-to-30-off-28-dec-2011-22371/
END:VEVENT
END:VCALENDAR