BEGIN:VCALENDAR
PRODID:-//SINGPromos.com//NONSGML v1.0//EN
VERSION:2.0
CALSCALE:GREGORIAN
METHOD:PUBLISH
X-WR-CALNAME:SINGPromos.com
X-ORIGINAL-URL:https://singpromos.com
X-WR-CALDESC:Events for SINGPromos.com
BEGIN:VEVENT
DTSTART:20111228T000000
DTEND:20120102T235900
DTSTAMP:20260420T032140
CREATED:20111229T014157
LAST-MODIFIED:20111229T014157
UID:22374@https://singpromos.com
SUMMARY:Royal Sporting House & Stadium Up To 25% Off Promotion 28 Dec 2011 - 2 Jan 2012
DESCRIPTION:Ring In The New Year with Royal Sporting House and Stadium. Enjoy up to 25% off regular-priced items when you shop at Royal Sporting House and Stadium stores from 28 December 2011 to 2 January 2012. For more information, visit [ https://singpromos.com/sports/royal-sporting-house-stadium-up-to-25-off-promotion-28-dec-2011-2-jan-2012-22374/ ]. 
LOCATION:
URL:https://singpromos.com/sports/royal-sporting-house-stadium-up-to-25-off-promotion-28-dec-2011-2-jan-2012-22374/
END:VEVENT
END:VCALENDAR