BEGIN:VCALENDAR
PRODID:-//SINGPromos.com//NONSGML v1.0//EN
VERSION:2.0
CALSCALE:GREGORIAN
METHOD:PUBLISH
X-WR-CALNAME:SINGPromos.com
X-ORIGINAL-URL:https://singpromos.com
X-WR-CALDESC:Events for SINGPromos.com
BEGIN:VEVENT
DTSTART:20190104T000000
DTEND:20190106T235900
DTSTAMP:20260422T203151
CREATED:20190103T113748
LAST-MODIFIED:20190102T110531
UID:223780@https://singpromos.com
SUMMARY:IT Expo 2019 at Singapore Expo from 4th to 6th January 2019
DESCRIPTION:BE THE FIRST! Beat the crowd in 2019 and get the best deals for your household and upcoming Lunar New Year!. For more information, visit [ https://singpromos.com/warehouse-sales/it-expo-2019-at-singapore-expo-from-4th-to-6th-january-2019-223780/ ]. 
LOCATION:486150
URL:https://singpromos.com/warehouse-sales/it-expo-2019-at-singapore-expo-from-4th-to-6th-january-2019-223780/
END:VEVENT
END:VCALENDAR