BEGIN:VCALENDAR
PRODID:-//SINGPromos.com//NONSGML v1.0//EN
VERSION:2.0
CALSCALE:GREGORIAN
METHOD:PUBLISH
X-WR-CALNAME:SINGPromos.com
X-ORIGINAL-URL:https://singpromos.com
X-WR-CALDESC:Events for SINGPromos.com
BEGIN:VEVENT
DTSTART:20190101T000000
DTEND:20190131T235900
DTSTAMP:20260422T080715
CREATED:20190104T121524
LAST-MODIFIED:20190104T121525
UID:223893@https://singpromos.com
SUMMARY:Hennsley Chinese New Year Prosperous Sale (1st to 31st Jan 2019)
DESCRIPTION:Purchase your favourite Hennsley mattress models today and enjoy great savings. For more information, visit [ https://singpromos.com/furniture/hennsley-chinese-new-year-prosperous-sale-1st-to-31st-jan-2019-223893/ ]. 
LOCATION:428778
URL:https://singpromos.com/furniture/hennsley-chinese-new-year-prosperous-sale-1st-to-31st-jan-2019-223893/
END:VEVENT
END:VCALENDAR