BEGIN:VCALENDAR
PRODID:-//SINGPromos.com//NONSGML v1.0//EN
VERSION:2.0
CALSCALE:GREGORIAN
METHOD:PUBLISH
X-WR-CALNAME:SINGPromos.com
X-ORIGINAL-URL:https://singpromos.com
X-WR-CALDESC:Events for SINGPromos.com
BEGIN:VEVENT
DTSTART:20190116T000000
DTEND:20190219T235900
DTSTAMP:20260422T082137
CREATED:20190117T140145
LAST-MODIFIED:20190117T140312
UID:224352@https://singpromos.com
SUMMARY:KFC: 3pcs Parmesan Truffle Chicken at S$8 (U.P $10.80) when you pay with DBS/POSB cards till 19 Feb 2019
DESCRIPTION:Enjoy 3pcs Parmesan Truffle Chicken at S$8 (U.P $10.80). For more information, visit [ https://singpromos.com/dining-restaurants-food/kfc-3pcs-parmesan-truffle-chicken-at-s8-u-p-10-80-when-you-pay-with-dbs-posb-cards-till-19-feb-2019-224352/ ]. 
LOCATION:
URL:https://singpromos.com/dining-restaurants-food/kfc-3pcs-parmesan-truffle-chicken-at-s8-u-p-10-80-when-you-pay-with-dbs-posb-cards-till-19-feb-2019-224352/
END:VEVENT
END:VCALENDAR