BEGIN:VCALENDAR
PRODID:-//SINGPromos.com//NONSGML v1.0//EN
VERSION:2.0
CALSCALE:GREGORIAN
METHOD:PUBLISH
X-WR-CALNAME:SINGPromos.com
X-ORIGINAL-URL:https://singpromos.com
X-WR-CALDESC:Events for SINGPromos.com
BEGIN:VEVENT
DTSTART:20190117T000000
DTEND:20190120T235900
DTSTAMP:20260420T183623
CREATED:20190117T120904
LAST-MODIFIED:20190117T120904
UID:224363@https://singpromos.com
SUMMARY:OG: 20% OFF storewide sale at all outlets till 20 Jan 2019
DESCRIPTION:OG is throwing a 20%* off regular-priced items storewide at all outlets for a limited time.. For more information, visit [ https://singpromos.com/department-stores/og-20-off-storewide-sale-at-all-outlets-till-20-jan-2019-224363/ ]. 
LOCATION:
URL:https://singpromos.com/department-stores/og-20-off-storewide-sale-at-all-outlets-till-20-jan-2019-224363/
END:VEVENT
END:VCALENDAR