BEGIN:VCALENDAR
PRODID:-//SINGPromos.com//NONSGML v1.0//EN
VERSION:2.0
CALSCALE:GREGORIAN
METHOD:PUBLISH
X-WR-CALNAME:SINGPromos.com
X-ORIGINAL-URL:https://singpromos.com
X-WR-CALDESC:Events for SINGPromos.com
BEGIN:VEVENT
DTSTART:20190114T000000
DTEND:20190120T235900
DTSTAMP:20260422T082117
CREATED:20190117T121829
LAST-MODIFIED:20190117T121829
UID:224366@https://singpromos.com
SUMMARY:OCBC: List of roadshows happening from 14 - 20 Jan 2019
DESCRIPTION:Here a list of OCBC roadshow locations islandwide. For more information, visit [ https://singpromos.com/happenings/ocbc-list-of-roadshows-happening-from-14-20-jan-2019-224366/ ]. 
LOCATION:
URL:https://singpromos.com/happenings/ocbc-list-of-roadshows-happening-from-14-20-jan-2019-224366/
END:VEVENT
END:VCALENDAR