BEGIN:VCALENDAR
PRODID:-//SINGPromos.com//NONSGML v1.0//EN
VERSION:2.0
CALSCALE:GREGORIAN
METHOD:PUBLISH
X-WR-CALNAME:SINGPromos.com
X-ORIGINAL-URL:https://singpromos.com
X-WR-CALDESC:Events for SINGPromos.com
BEGIN:VEVENT
DTSTART:20190117T000000
DTEND:20190123T235900
DTSTAMP:20260422T082127
CREATED:20190117T122344
LAST-MODIFIED:20190117T130610
UID:224368@https://singpromos.com
SUMMARY:Fairprice: Ben & Jerry's are going at 3-for-$29.50 (U.P. $41.70)! Ends 23 Jan 2019
DESCRIPTION:Stock up on Ben & Jerry's ice cream with Fairprice's latest promotion.. For more information, visit [ https://singpromos.com/dining-restaurants-food/fairprice-ben-jerrys-are-going-at-3-for-29-50-u-p-41-70-ends-23-jan-2019-224368/ ]. 
LOCATION:
URL:https://singpromos.com/dining-restaurants-food/fairprice-ben-jerrys-are-going-at-3-for-29-50-u-p-41-70-ends-23-jan-2019-224368/
END:VEVENT
END:VCALENDAR