BEGIN:VCALENDAR
PRODID:-//SINGPromos.com//NONSGML v1.0//EN
VERSION:2.0
CALSCALE:GREGORIAN
METHOD:PUBLISH
X-WR-CALNAME:SINGPromos.com
X-ORIGINAL-URL:https://singpromos.com
X-WR-CALDESC:Events for SINGPromos.com
BEGIN:VEVENT
DTSTART:20190119T000000
DTEND:20190120T235900
DTSTAMP:20260422T082237
CREATED:20190118T114613
LAST-MODIFIED:20190118T145036
UID:224374@https://singpromos.com
SUMMARY:Paradise Dynasty: 50% OFF food bill promotion for Citi cardholders at new Wisma Atria outlet from 19 - 20 Jan 2019
DESCRIPTION:Citibank Credit or Debit Cardmembers and PGR members can enjoy 50% OFF Food Bill ALL DAY on 19 and 20 Jan 2019.. For more information, visit [ https://singpromos.com/dining-restaurants-food/paradise-dynasty-50-off-food-bill-promotion-for-citi-cardholders-at-new-wisma-atria-outlet-from-19-20-jan-2019-224374/ ]. 
LOCATION:238877
URL:https://singpromos.com/dining-restaurants-food/paradise-dynasty-50-off-food-bill-promotion-for-citi-cardholders-at-new-wisma-atria-outlet-from-19-20-jan-2019-224374/
END:VEVENT
END:VCALENDAR