BEGIN:VCALENDAR
PRODID:-//SINGPromos.com//NONSGML v1.0//EN
VERSION:2.0
CALSCALE:GREGORIAN
METHOD:PUBLISH
X-WR-CALNAME:SINGPromos.com
X-ORIGINAL-URL:https://singpromos.com
X-WR-CALDESC:Events for SINGPromos.com
BEGIN:VEVENT
DTSTART:20190117T000000
DTEND:20190123T235900
DTSTAMP:20260422T082126
CREATED:20190117T131413
LAST-MODIFIED:20190117T131413
UID:224382@https://singpromos.com
SUMMARY:Fairprice: New Moon Australia Abalone abalone & other CNY offers valid till 23 Jan 2019
DESCRIPTION:Check out the latest abalone and other CNY offers at Fairprice. For more information, visit [ https://singpromos.com/dining-restaurants-food/fairprice-new-moon-australia-abalone-abalone-other-cny-offers-valid-till-23-jan-2019-224382/ ]. 
LOCATION:
URL:https://singpromos.com/dining-restaurants-food/fairprice-new-moon-australia-abalone-abalone-other-cny-offers-valid-till-23-jan-2019-224382/
END:VEVENT
END:VCALENDAR