BEGIN:VCALENDAR
PRODID:-//SINGPromos.com//NONSGML v1.0//EN
VERSION:2.0
CALSCALE:GREGORIAN
METHOD:PUBLISH
X-WR-CALNAME:SINGPromos.com
X-ORIGINAL-URL:https://singpromos.com
X-WR-CALDESC:Events for SINGPromos.com
BEGIN:VEVENT
DTSTART:20190118T000000
DTEND:20190120T235900
DTSTAMP:20260422T082129
CREATED:20190118T120837
LAST-MODIFIED:20190118T120837
UID:224414@https://singpromos.com
SUMMARY:Watsons: Everyone's invited - Storewide 20% off with min $38 spend from 18 - 20 Jan 2019
DESCRIPTION:Enjoy 20% OFF* storewide with minimum $38 spend in a single receipt at all Watsons outlets!. For more information, visit [ https://singpromos.com/department-stores/watsons-everyones-invited-storewide-20-off-with-min-38-spend-from-18-20-jan-2019-224414/ ]. 
LOCATION:
URL:https://singpromos.com/department-stores/watsons-everyones-invited-storewide-20-off-with-min-38-spend-from-18-20-jan-2019-224414/
END:VEVENT
END:VCALENDAR