BEGIN:VCALENDAR
PRODID:-//SINGPromos.com//NONSGML v1.0//EN
VERSION:2.0
CALSCALE:GREGORIAN
METHOD:PUBLISH
X-WR-CALNAME:SINGPromos.com
X-ORIGINAL-URL:https://singpromos.com
X-WR-CALDESC:Events for SINGPromos.com
BEGIN:VEVENT
DTSTART:20190118T000000
DTEND:20190119T235900
DTSTAMP:20260422T082232
CREATED:20190118T124222
LAST-MODIFIED:20190118T124222
UID:224418@https://singpromos.com
SUMMARY:Jetstar is offering fares to Okinawa fr $48^++ one way for 24hrs only till 19 January 2019, 10am
DESCRIPTION:Bow wow Okinawa, for just S$48^+++ one way!. For more information, visit [ https://singpromos.com/airlines-flights/jetstar-is-offering-fares-to-okinawa-fr-48-one-way-for-24hrs-only-till-19-january-2019-10am-224418/ ]. 
LOCATION:
URL:https://singpromos.com/airlines-flights/jetstar-is-offering-fares-to-okinawa-fr-48-one-way-for-24hrs-only-till-19-january-2019-10am-224418/
END:VEVENT
END:VCALENDAR