BEGIN:VCALENDAR
PRODID:-//SINGPromos.com//NONSGML v1.0//EN
VERSION:2.0
CALSCALE:GREGORIAN
METHOD:PUBLISH
X-WR-CALNAME:SINGPromos.com
X-ORIGINAL-URL:https://singpromos.com
X-WR-CALDESC:Events for SINGPromos.com
BEGIN:VEVENT
DTSTART:20190119T000000
DTEND:20190120T235900
DTSTAMP:20260422T082135
CREATED:20190119T105236
LAST-MODIFIED:20190119T105236
UID:224434@https://singpromos.com
SUMMARY:Fairprice: 2-days offers - SKYLIGHT New Zealand Superior Abalone, $8 off $108 spend & more deals valid till 20 Jan 2019
DESCRIPTION:Sound the alarm! Whether it's making your signature dish or preparing the house for visiting, surprise your loved ones with something special this Lunar New Year.. For more information, visit [ https://singpromos.com/dining-restaurants-food/fairprice-2-days-offers-skylight-new-zealand-superior-abalone-8-off-108-spend-more-deals-valid-till-20-jan-2019-224434/ ]. 
LOCATION:
URL:https://singpromos.com/dining-restaurants-food/fairprice-2-days-offers-skylight-new-zealand-superior-abalone-8-off-108-spend-more-deals-valid-till-20-jan-2019-224434/
END:VEVENT
END:VCALENDAR