BEGIN:VCALENDAR
PRODID:-//SINGPromos.com//NONSGML v1.0//EN
VERSION:2.0
CALSCALE:GREGORIAN
METHOD:PUBLISH
X-WR-CALNAME:SINGPromos.com
X-ORIGINAL-URL:https://singpromos.com
X-WR-CALDESC:Events for SINGPromos.com
BEGIN:VEVENT
DTSTART:20190121T000000
DTEND:20190122T235900
DTSTAMP:20260422T082145
CREATED:20190121T062222
LAST-MODIFIED:20190121T031103
UID:224442@https://singpromos.com
SUMMARY:Qoo10: Grab free $6 cart coupons valid till 22 Jan 2019
DESCRIPTION:Qoo10 is running a Exclusive Rewards promotion featuring free cart coupons worth $6.. For more information, visit [ https://singpromos.com/department-stores/qoo10-grab-free-6-cart-coupons-valid-till-22-jan-2019-224442/ ]. 
LOCATION:
URL:https://singpromos.com/department-stores/qoo10-grab-free-6-cart-coupons-valid-till-22-jan-2019-224442/
END:VEVENT
END:VCALENDAR