BEGIN:VCALENDAR
PRODID:-//SINGPromos.com//NONSGML v1.0//EN
VERSION:2.0
CALSCALE:GREGORIAN
METHOD:PUBLISH
X-WR-CALNAME:SINGPromos.com
X-ORIGINAL-URL:https://singpromos.com
X-WR-CALDESC:Events for SINGPromos.com
BEGIN:VEVENT
DTSTART:20190124T000000
DTEND:20190128T235900
DTSTAMP:20260422T082313
CREATED:20190123T142200
LAST-MODIFIED:20190123T142235
UID:224510@https://singpromos.com
SUMMARY:Toys "R" Us: HALF-PRICE offers - LEGO, Nerf, Barbie, Hot Wheels, Tomica & more at ALL stores from 24 - 28 Jan 2019
DESCRIPTION:Toys "R" Us celebrates their Great World City Store Grand Re-Opening with islandwide HALF-PRICE offers!. For more information, visit [ https://singpromos.com/kids/toys-r-us-half-price-offers-lego-nerf-barbie-hot-wheels-tomica-more-at-all-stores-from-24-28-jan-2019-224510/ ]. 
LOCATION:
URL:https://singpromos.com/kids/toys-r-us-half-price-offers-lego-nerf-barbie-hot-wheels-tomica-more-at-all-stores-from-24-28-jan-2019-224510/
END:VEVENT
END:VCALENDAR