BEGIN:VCALENDAR
PRODID:-//SINGPromos.com//NONSGML v1.0//EN
VERSION:2.0
CALSCALE:GREGORIAN
METHOD:PUBLISH
X-WR-CALNAME:SINGPromos.com
X-ORIGINAL-URL:https://singpromos.com
X-WR-CALDESC:Events for SINGPromos.com
BEGIN:VEVENT
DTSTART:20190124T000000
DTEND:20190127T235900
DTSTAMP:20260422T082235
CREATED:20190124T110209
LAST-MODIFIED:20190124T132532
UID:224536@https://singpromos.com
SUMMARY:Guardian is offering 30% off ALL cosmetics products till 27 Jan 2019
DESCRIPTION:Don't blink & miss out on Guardian's exclusive Beauty Days!. For more information, visit [ https://singpromos.com/cosmetics/guardian-is-offering-30-off-all-cosmetics-products-till-27-jan-2019-224536/ ]. 
LOCATION:
URL:https://singpromos.com/cosmetics/guardian-is-offering-30-off-all-cosmetics-products-till-27-jan-2019-224536/
END:VEVENT
END:VCALENDAR