BEGIN:VCALENDAR
PRODID:-//SINGPromos.com//NONSGML v1.0//EN
VERSION:2.0
CALSCALE:GREGORIAN
METHOD:PUBLISH
X-WR-CALNAME:SINGPromos.com
X-ORIGINAL-URL:https://singpromos.com
X-WR-CALDESC:Events for SINGPromos.com
BEGIN:VEVENT
DTSTART:20190201T000000
DTEND:20190218T235900
DTSTAMP:20260420T232628
CREATED:20190201T142731
LAST-MODIFIED:20190226T192443
UID:224823@https://singpromos.com
SUMMARY:Singapore Airlines and SilkAir releases two-to-go & special fares fr $158 all-in return! Book by 18 Feb 2019
DESCRIPTION:Explore the wonders of Southeast Asia with Singapore Airlines and SilkAir. For more information, visit [ https://singpromos.com/airlines-flights/singapore-airlines-and-silkair-releases-two-to-go-special-fares-to-southeast-asia-destinations-fr-158-all-in-return-book-by-18-feb-2019-224823/ ]. 
LOCATION:
URL:https://singpromos.com/airlines-flights/singapore-airlines-and-silkair-releases-two-to-go-special-fares-to-southeast-asia-destinations-fr-158-all-in-return-book-by-18-feb-2019-224823/
END:VEVENT
END:VCALENDAR