BEGIN:VCALENDAR
PRODID:-//SINGPromos.com//NONSGML v1.0//EN
VERSION:2.0
CALSCALE:GREGORIAN
METHOD:PUBLISH
X-WR-CALNAME:SINGPromos.com
X-ORIGINAL-URL:https://singpromos.com
X-WR-CALDESC:Events for SINGPromos.com
BEGIN:VEVENT
DTSTART:20190218T000000
DTEND:20190225T235900
DTSTAMP:20260420T005558
CREATED:20190218T230147
LAST-MODIFIED:20190218T230147
UID:225204@https://singpromos.com
SUMMARY:GOG.com: Up to 85% off on over 200+ games (Bethesda, Ubisoft, CD Projeckt Red, EA & more) till 25 Feb 2019
DESCRIPTION:Celebrate the Year of the Pig by indulging in 200+ wondrous deals up to 85% off!. For more information, visit [ https://singpromos.com/video-games/gog-com-up-to-85-off-on-over-200-games-bethesda-ubisoft-cd-projeckt-red-ea-more-till-25-feb-2019-225204/ ]. 
LOCATION:
URL:https://singpromos.com/video-games/gog-com-up-to-85-off-on-over-200-games-bethesda-ubisoft-cd-projeckt-red-ea-more-till-25-feb-2019-225204/
END:VEVENT
END:VCALENDAR