BEGIN:VCALENDAR
PRODID:-//SINGPromos.com//NONSGML v1.0//EN
VERSION:2.0
CALSCALE:GREGORIAN
METHOD:PUBLISH
X-WR-CALNAME:SINGPromos.com
X-ORIGINAL-URL:https://singpromos.com
X-WR-CALDESC:Events for SINGPromos.com
BEGIN:VEVENT
DTSTART:20190308T000000
DTEND:20190316T235900
DTSTAMP:20260422T183645
CREATED:20190307T110219
LAST-MODIFIED:20190307T171831
UID:225397@https://singpromos.com
SUMMARY:Fill a box with as many books as you can for $50 at SG Book Deals box sale from 8 - 16 Mar 2019
DESCRIPTION:The news you've all been waiting for!. For more information, visit [ https://singpromos.com/warehouse-sales/fill-a-box-with-as-many-books-as-you-can-for-50-at-sg-book-deals-box-sale-from-8-16-mar-2019-225397/ ]. 
LOCATION:569619
URL:https://singpromos.com/warehouse-sales/fill-a-box-with-as-many-books-as-you-can-for-50-at-sg-book-deals-box-sale-from-8-16-mar-2019-225397/
END:VEVENT
END:VCALENDAR