BEGIN:VCALENDAR
PRODID:-//SINGPromos.com//NONSGML v1.0//EN
VERSION:2.0
CALSCALE:GREGORIAN
METHOD:PUBLISH
X-WR-CALNAME:SINGPromos.com
X-ORIGINAL-URL:https://singpromos.com
X-WR-CALDESC:Events for SINGPromos.com
BEGIN:VEVENT
DTSTART:20190302T000000
DTEND:20190303T235900
DTSTAMP:20260420T042603
CREATED:20190301T160122
LAST-MODIFIED:20190301T134729
UID:225548@https://singpromos.com
SUMMARY:ASA Holidays Post NATAS Travel Fair at Suntec from 2 - 3 Mar 2019
DESCRIPTION:Missed out on ASA Holidays NATAS Travel Fair's holiday promotion last weekend?. For more information, visit [ https://singpromos.com/happenings/asa-holidays-post-natas-travel-fair-at-suntec-from-2-3-mar-2019-225548/ ]. 
LOCATION:038983
URL:https://singpromos.com/happenings/asa-holidays-post-natas-travel-fair-at-suntec-from-2-3-mar-2019-225548/
END:VEVENT
END:VCALENDAR