BEGIN:VCALENDAR
PRODID:-//SINGPromos.com//NONSGML v1.0//EN
VERSION:2.0
CALSCALE:GREGORIAN
METHOD:PUBLISH
X-WR-CALNAME:SINGPromos.com
X-ORIGINAL-URL:https://singpromos.com
X-WR-CALDESC:Events for SINGPromos.com
BEGIN:VEVENT
DTSTART:20190308T000000
DTEND:20190308T235900
DTSTAMP:20260420T214039
CREATED:20190308T123641
LAST-MODIFIED:20190308T124145
UID:225783@https://singpromos.com
SUMMARY:Jetstar: Fares fr $55 all-in to over 25 destinations - Taipei, Phuket, Siem Reap & more! Book by 8 Mar 2019
DESCRIPTION:Continue the celebration with frenzy fares to Bangkok, Ho Chi Minh City and more!. For more information, visit [ https://singpromos.com/airlines-flights/jetstar-fares-fr-55-all-in-to-over-25-destinations-taipei-phuket-siem-reap-more-book-by-8-mar-2019-225783/ ]. 
LOCATION:
URL:https://singpromos.com/airlines-flights/jetstar-fares-fr-55-all-in-to-over-25-destinations-taipei-phuket-siem-reap-more-book-by-8-mar-2019-225783/
END:VEVENT
END:VCALENDAR