BEGIN:VCALENDAR
PRODID:-//SINGPromos.com//NONSGML v1.0//EN
VERSION:2.0
CALSCALE:GREGORIAN
METHOD:PUBLISH
X-WR-CALNAME:SINGPromos.com
X-ORIGINAL-URL:https://singpromos.com
X-WR-CALDESC:Events for SINGPromos.com
BEGIN:VEVENT
DTSTART:20190315T000000
DTEND:20190317T235900
DTSTAMP:20260420T214056
CREATED:20190315T130805
LAST-MODIFIED:20190315T131341
UID:225929@https://singpromos.com
SUMMARY:Jetstar: Fares fr $53 all-in to Taipei, Phuket, Siem Reap and more - book by 17 Mar 2019
DESCRIPTION:Time for another getaway.. For more information, visit [ https://singpromos.com/airlines-flights/jetstar-fares-fr-53-all-in-to-taipei-phuket-siem-reap-and-more-book-by-17-mar-2019-225929/ ]. 
LOCATION:
URL:https://singpromos.com/airlines-flights/jetstar-fares-fr-53-all-in-to-taipei-phuket-siem-reap-and-more-book-by-17-mar-2019-225929/
END:VEVENT
END:VCALENDAR