BEGIN:VCALENDAR
PRODID:-//SINGPromos.com//NONSGML v1.0//EN
VERSION:2.0
CALSCALE:GREGORIAN
METHOD:PUBLISH
X-WR-CALNAME:SINGPromos.com
X-ORIGINAL-URL:https://singpromos.com
X-WR-CALDESC:Events for SINGPromos.com
BEGIN:VEVENT
DTSTART:20190401T000000
DTEND:20190430T235900
DTSTAMP:20260422T080408
CREATED:20190401T183921
LAST-MODIFIED:20190401T183921
UID:226294@https://singpromos.com
SUMMARY:Hennsley would like to pay tribute to Earth Day by offering up to 50% savings this month. Offers ends 30th Apr 2019
DESCRIPTION:Enjoy up to 50% savings!. For more information, visit [ https://singpromos.com/furniture/hennsley-would-like-to-pay-tribute-to-earth-day-by-offering-up-to-50-savings-this-month-offers-ends-30th-apr-2019-226294/ ]. 
LOCATION:428778
URL:https://singpromos.com/furniture/hennsley-would-like-to-pay-tribute-to-earth-day-by-offering-up-to-50-savings-this-month-offers-ends-30th-apr-2019-226294/
END:VEVENT
END:VCALENDAR