BEGIN:VCALENDAR
PRODID:-//SINGPromos.com//NONSGML v1.0//EN
VERSION:2.0
CALSCALE:GREGORIAN
METHOD:PUBLISH
X-WR-CALNAME:SINGPromos.com
X-ORIGINAL-URL:https://singpromos.com
X-WR-CALDESC:Events for SINGPromos.com
BEGIN:VEVENT
DTSTART:20190511T000000
DTEND:20190512T235900
DTSTAMP:20260420T001451
CREATED:20190510T112312
LAST-MODIFIED:20190415T202906
UID:226629@https://singpromos.com
SUMMARY:Electrolux up to 80% off Family Sale from 11 - 12 May 2019
DESCRIPTION:Come visit Electrolux Family Sale 2019 where you can shop for fabulous home appliance deals for your essential needs.. For more information, visit [ https://singpromos.com/warehouse-sales/electrolux-up-to-80-off-family-sale-from-11-12-may-2019-226629/ ]. 
LOCATION:319387
URL:https://singpromos.com/warehouse-sales/electrolux-up-to-80-off-family-sale-from-11-12-may-2019-226629/
END:VEVENT
END:VCALENDAR