BEGIN:VCALENDAR
PRODID:-//SINGPromos.com//NONSGML v1.0//EN
VERSION:2.0
CALSCALE:GREGORIAN
METHOD:PUBLISH
X-WR-CALNAME:SINGPromos.com
X-ORIGINAL-URL:https://singpromos.com
X-WR-CALDESC:Events for SINGPromos.com
BEGIN:VEVENT
DTSTART:20190523T000000
DTEND:20190602T235900
DTSTAMP:20260420T190515
CREATED:20190522T144324
LAST-MODIFIED:20190525T003908
UID:227758@https://singpromos.com
SUMMARY:NDP 2019 tickets applications to open from 23 May - 2 Jun 2019
DESCRIPTION:National Day Parade 2019 will be held at the Padang. For more information, visit [ https://singpromos.com/places-of-interest/ndp-2019-tickets-applications-to-open-from-23-may-2-jun-2019-227758/ ]. 
LOCATION:
URL:https://singpromos.com/places-of-interest/ndp-2019-tickets-applications-to-open-from-23-may-2-jun-2019-227758/
END:VEVENT
END:VCALENDAR