BEGIN:VCALENDAR
PRODID:-//SINGPromos.com//NONSGML v1.0//EN
VERSION:2.0
CALSCALE:GREGORIAN
METHOD:PUBLISH
X-WR-CALNAME:SINGPromos.com
X-ORIGINAL-URL:https://singpromos.com
X-WR-CALDESC:Events for SINGPromos.com
BEGIN:VEVENT
DTSTART:20190530T000000
DTEND:20190530T235900
DTSTAMP:20260420T042559
CREATED:20190529T182741
LAST-MODIFIED:20190529T182741
UID:227974@https://singpromos.com
SUMMARY:Krispy Kreme: 12 Original Glazed Doughnuts for $12 at selected outlets on 30 May 2019
DESCRIPTION:Krispy Kreme will be running the popular 12 for $12 promotion at selected outlets!. For more information, visit [ https://singpromos.com/dining-restaurants-food/krispy-kreme-12-original-glazed-doughnuts-for-12-at-selected-outlets-on-30-may-2019-227974/ ]. 
LOCATION:
URL:https://singpromos.com/dining-restaurants-food/krispy-kreme-12-original-glazed-doughnuts-for-12-at-selected-outlets-on-30-may-2019-227974/
END:VEVENT
END:VCALENDAR