BEGIN:VCALENDAR
PRODID:-//SINGPromos.com//NONSGML v1.0//EN
VERSION:2.0
CALSCALE:GREGORIAN
METHOD:PUBLISH
X-WR-CALNAME:SINGPromos.com
X-ORIGINAL-URL:https://singpromos.com
X-WR-CALDESC:Events for SINGPromos.com
BEGIN:VEVENT
DTSTART:20190601T000000
DTEND:20190629T235900
DTSTAMP:20260422T082303
CREATED:20190601T111521
LAST-MODIFIED:20190531T171741
UID:228067@https://singpromos.com
SUMMARY:Cafe Mosiac: "Meat and Sea" dinner buffet 50% off total bill with DBS/POSB cards from 1 June 2019
DESCRIPTION:Experience the best of both worlds at Café Mosaic's brand new "Meat and Sea" dinner buffet on Fridays and Saturdays.. For more information, visit [ https://singpromos.com/dining-restaurants-food/cafe-mosiac-meat-and-sea-dinner-buffet-50-off-total-bill-with-dbs-posb-cards-from-1-june-2019-228067/ ]. 
LOCATION:189558
URL:https://singpromos.com/dining-restaurants-food/cafe-mosiac-meat-and-sea-dinner-buffet-50-off-total-bill-with-dbs-posb-cards-from-1-june-2019-228067/
END:VEVENT
END:VCALENDAR