BEGIN:VCALENDAR
PRODID:-//SINGPromos.com//NONSGML v1.0//EN
VERSION:2.0
CALSCALE:GREGORIAN
METHOD:PUBLISH
X-WR-CALNAME:SINGPromos.com
X-ORIGINAL-URL:https://singpromos.com
X-WR-CALDESC:Events for SINGPromos.com
BEGIN:VEVENT
DTSTART:20190601T000000
DTEND:20190630T235900
DTSTAMP:20260422T082232
CREATED:20190601T093255
LAST-MODIFIED:20190707T144052
UID:228076@https://singpromos.com
SUMMARY:Hong Leong Finance: Earn up to 1.90% p.a. with their latest fixed deposits promotion from 1 Jun 2019
DESCRIPTION:Enjoy attractive rates from Hong Leong Finance when you place fresh funds. For more information, visit [ https://singpromos.com/banks-credit-cards/hong-leong-finance-earn-up-to-1-90-p-a-with-their-latest-fixed-deposits-promotion-from-1-jun-2019-228076/ ]. 
LOCATION:
URL:https://singpromos.com/banks-credit-cards/hong-leong-finance-earn-up-to-1-90-p-a-with-their-latest-fixed-deposits-promotion-from-1-jun-2019-228076/
END:VEVENT
END:VCALENDAR