BEGIN:VCALENDAR
PRODID:-//SINGPromos.com//NONSGML v1.0//EN
VERSION:2.0
CALSCALE:GREGORIAN
METHOD:PUBLISH
X-WR-CALNAME:SINGPromos.com
X-ORIGINAL-URL:https://singpromos.com
X-WR-CALDESC:Events for SINGPromos.com
BEGIN:VEVENT
DTSTART:20190601T000000
DTEND:20190630T235900
DTSTAMP:20260422T080353
CREATED:20190603T153351
LAST-MODIFIED:20190603T153351
UID:228109@https://singpromos.com
SUMMARY:Hennsley GSS Mega Sale (1 - 30 Jun 2019)
DESCRIPTION:Storewide 20% Discount + 7% GST Absorbed + Free Bedframe + Special Purchase-With-Purchase Price of Storage or Pull Out Bedframe.. For more information, visit [ https://singpromos.com/furniture/hennsley-gss-mega-sale-1-30-jun-2019-228109/ ]. 
LOCATION:66, East Coast Road, 428778
URL:https://singpromos.com/furniture/hennsley-gss-mega-sale-1-30-jun-2019-228109/
END:VEVENT
END:VCALENDAR