BEGIN:VCALENDAR
PRODID:-//SINGPromos.com//NONSGML v1.0//EN
VERSION:2.0
CALSCALE:GREGORIAN
METHOD:PUBLISH
X-WR-CALNAME:SINGPromos.com
X-ORIGINAL-URL:https://singpromos.com
X-WR-CALDESC:Events for SINGPromos.com
BEGIN:VEVENT
DTSTART:20190301T000000
DTEND:20190831T235900
DTSTAMP:20260422T201248
CREATED:20190601T123344
LAST-MODIFIED:20190625T123535
UID:228513@https://singpromos.com
SUMMARY:Cold Stone Creamery: 1-for-1 Signature Creations with SAFRA cards! Valid from 1 Mar - 31 Aug 2019
DESCRIPTION:Enjoy 1-for-1 Ice Cream at Cold Stone Creamery with SAFRA cards.. For more information, visit [ https://singpromos.com/dining-restaurants-food/cold-stone-creamery-1-for-1-signature-creations-with-safra-cards-valid-from-1-mar-31-aug-2019-228513/ ]. 
LOCATION:
URL:https://singpromos.com/dining-restaurants-food/cold-stone-creamery-1-for-1-signature-creations-with-safra-cards-valid-from-1-mar-31-aug-2019-228513/
END:VEVENT
END:VCALENDAR