BEGIN:VCALENDAR
PRODID:-//SINGPromos.com//NONSGML v1.0//EN
VERSION:2.0
CALSCALE:GREGORIAN
METHOD:PUBLISH
X-WR-CALNAME:SINGPromos.com
X-ORIGINAL-URL:https://singpromos.com
X-WR-CALDESC:Events for SINGPromos.com
BEGIN:VEVENT
DTSTART:20190627T000000
DTEND:20190628T235900
DTSTAMP:20260422T082314
CREATED:20190627T064813
LAST-MODIFIED:20190627T004904
UID:228568@https://singpromos.com
SUMMARY:Qoo10: Grab free $15 cart coupons (usable with min spend of $100) till 28th June 2019
DESCRIPTION:Qoo10 is running a promotion featuring free cart coupons worth $15!. For more information, visit [ https://singpromos.com/department-stores/qoo10-grab-free-15-cart-coupons-usable-with-min-spend-of-100-till-28th-june-2019-228568/ ]. 
LOCATION:
URL:https://singpromos.com/department-stores/qoo10-grab-free-15-cart-coupons-usable-with-min-spend-of-100-till-28th-june-2019-228568/
END:VEVENT
END:VCALENDAR