BEGIN:VCALENDAR
PRODID:-//SINGPromos.com//NONSGML v1.0//EN
VERSION:2.0
CALSCALE:GREGORIAN
METHOD:PUBLISH
X-WR-CALNAME:SINGPromos.com
X-ORIGINAL-URL:https://singpromos.com
X-WR-CALDESC:Events for SINGPromos.com
BEGIN:VEVENT
DTSTART:20190701T000000
DTEND:20190714T235900
DTSTAMP:20260422T082317
CREATED:20190630T194022
LAST-MODIFIED:20190703T204205
UID:228645@https://singpromos.com
SUMMARY:Foodpanda: Save 50% off your order with this promo code valid from 1 July to 14 July 2019
DESCRIPTION:50% off. It's too crazy to miss!. For more information, visit [ https://singpromos.com/dining-restaurants-food/foodpanda-save-50-off-your-order-with-this-promo-code-valid-from-1-july-to-14-july-2019-228645/ ]. 
LOCATION:
URL:https://singpromos.com/dining-restaurants-food/foodpanda-save-50-off-your-order-with-this-promo-code-valid-from-1-july-to-14-july-2019-228645/
END:VEVENT
END:VCALENDAR